BEGIN:VCALENDAR
VERSION:2.0
PRODID:-//jEvents 2.0 for Joomla//EN
CALSCALE:GREGORIAN
METHOD:PUBLISH
BEGIN:VTIMEZONE
TZID:Europe/Berlin
BEGIN:STANDARD
DTSTART:20200318T190000
RDATE:20200329T030000
TZOFFSETFROM:+0200
TZOFFSETTO:+0100
TZNAME:Europe/Berlin CET
END:STANDARD
BEGIN:STANDARD
DTSTART:20201025T020000
RDATE:20210328T030000
TZOFFSETFROM:+0200
TZOFFSETTO:+0100
TZNAME:Europe/Berlin CET
END:STANDARD
BEGIN:STANDARD
DTSTART:20211031T020000
RDATE:20220327T030000
TZOFFSETFROM:+0200
TZOFFSETTO:+0100
TZNAME:Europe/Berlin CET
END:STANDARD
BEGIN:STANDARD
DTSTART:20221030T020000
RDATE:20230326T030000
TZOFFSETFROM:+0200
TZOFFSETTO:+0100
TZNAME:Europe/Berlin CET
END:STANDARD
BEGIN:STANDARD
DTSTART:20231029T020000
RDATE:20240331T030000
TZOFFSETFROM:+0200
TZOFFSETTO:+0100
TZNAME:Europe/Berlin CET
END:STANDARD
BEGIN:STANDARD
DTSTART:20241027T020000
RDATE:20250330T030000
TZOFFSETFROM:+0200
TZOFFSETTO:+0100
TZNAME:Europe/Berlin CET
END:STANDARD
BEGIN:STANDARD
DTSTART:20251026T020000
RDATE:20260329T030000
TZOFFSETFROM:+0200
TZOFFSETTO:+0100
TZNAME:Europe/Berlin CET
END:STANDARD
BEGIN:STANDARD
DTSTART:20261025T020000
RDATE:20270328T030000
TZOFFSETFROM:+0200
TZOFFSETTO:+0100
TZNAME:Europe/Berlin CET
END:STANDARD
BEGIN:STANDARD
DTSTART:20271031T020000
RDATE:20280326T030000
TZOFFSETFROM:+0200
TZOFFSETTO:+0100
TZNAME:Europe/Berlin CET
END:STANDARD
BEGIN:DAYLIGHT
DTSTART:20200329T030000
RDATE:20201025T020000
TZOFFSETFROM:+0100
TZOFFSETTO:+0200
TZNAME:Europe/Berlin CEST
END:DAYLIGHT
BEGIN:DAYLIGHT
DTSTART:20210328T030000
RDATE:20211031T020000
TZOFFSETFROM:+0100
TZOFFSETTO:+0200
TZNAME:Europe/Berlin CEST
END:DAYLIGHT
BEGIN:DAYLIGHT
DTSTART:20220327T030000
RDATE:20221030T020000
TZOFFSETFROM:+0100
TZOFFSETTO:+0200
TZNAME:Europe/Berlin CEST
END:DAYLIGHT
BEGIN:DAYLIGHT
DTSTART:20230326T030000
RDATE:20231029T020000
TZOFFSETFROM:+0100
TZOFFSETTO:+0200
TZNAME:Europe/Berlin CEST
END:DAYLIGHT
BEGIN:DAYLIGHT
DTSTART:20240331T030000
RDATE:20241027T020000
TZOFFSETFROM:+0100
TZOFFSETTO:+0200
TZNAME:Europe/Berlin CEST
END:DAYLIGHT
BEGIN:DAYLIGHT
DTSTART:20250330T030000
RDATE:20251026T020000
TZOFFSETFROM:+0100
TZOFFSETTO:+0200
TZNAME:Europe/Berlin CEST
END:DAYLIGHT
BEGIN:DAYLIGHT
DTSTART:20260329T030000
RDATE:20261025T020000
TZOFFSETFROM:+0100
TZOFFSETTO:+0200
TZNAME:Europe/Berlin CEST
END:DAYLIGHT
BEGIN:DAYLIGHT
DTSTART:20270328T030000
RDATE:20271031T020000
TZOFFSETFROM:+0100
TZOFFSETTO:+0200
TZNAME:Europe/Berlin CEST
END:DAYLIGHT
END:VTIMEZONE
BEGIN:VEVENT
UID:1e522922c68daadb57d24663672a66b8
CATEGORIES:Öffentlich
CREATED:20210319T153258
SUMMARY:Der Online-Stammtisch im März
LOCATION:Online
URL;VALUE=URI:https://www.zeidler-wendelstein.de/index.php/termine2/eventdetail/518/-/der
 -online-stammtisch-im-maerz?tmpl=component
DESCRIPTION:<p><span style="font-family: arial, helvetica, sans-serif; color: #333333;"
 >Liebe*r Bienenfreund*in, </span></p><p><span style="font-family: arial, he
 lvetica, sans-serif; color: #333333;">heute um 19 Uhr treffen wir uns wiede
 r zu unserem virtuellen Stammtisch.<br /></span><span style="font-family: a
 rial, helvetica, sans-serif; color: #333333;">Dieser Stammtisch ist auch fü
 r alle Interessierte und Neumitglieder offen. <br /></span></p><h4><span st
 yle="background-color: #333333; color: #ffffff;"><em> </em>Was benötigst du
  zur Teilnahme?<em> </em></span></h4><ul><li><p>Einen Bildschirm (PC, Table
 t oder dein Handy) mit aktiviertem Mikrofon, Kamera und Lautsprecher.</p></
 li><li><p>Den <strong>Zugangs-Link</strong> zur Skypesitzung, der per E-Mai
 l an dich ging. Du benötigt <strong>kein Skype-Konto</strong>. Du kannst au
 ch als <em>Gast </em>teilnehmen.</p></li><li><p>Etwa eine Stunde deiner Zei
 t.</p></li></ul><h4><span style="background-color: #333333; color: #ffffff;
 "> Thema:  </span></h4><p>Wir haben kein festes Thema - wie es sich ergibt,
  werden wir uns austauschen.</p><h4><span style="background-color: #333333;
  color: #ffffff;"> Technikprobe und Fragen: </span></h4><h4>Wenn du am Onli
 ne-Stammtisch teilnimmst:</h4><ol><li><p>Du kannst deine Technik etwa 10 Mi
 nuten vor dem Start testen, der Raum öffnet bereits etwas vorher. </p></li>
 <li><p>Wenn du <strong>spezielle Fragen</strong> hast, oder auch ein Thema 
 vorschlagen möchtest, bitte rechtzeitig vorab per E-Mail an <joomla-hidden-
 mail  is-link="1" is-email="1" first="aW5mbw==" last="emVpZGxlci13ZW5kZWxzd
 GVpbi5kZQ==" text="aW5mb0B6ZWlkbGVyLXdlbmRlbHN0ZWluLmRl" base="" >Diese E-M
 ail-Adresse ist vor Spambots geschützt! Zur Anzeige muss JavaScript eingesc
 haltet sein.</joomla-hidden-mail> mit dem <strong>Betreff Online-Stammtisch
 </strong>, damit wir uns ggf. darauf vorbereiten können.</p></li></ol><p><b
 r />Wir freuen uns auf dich und stehen dir für Fragen vorab gern zur Verfüg
 ung. <br /><br /><span style="background-color: #ffcc00;"> Roland und Danie
 l </span></p> <a href="https://www.zeidler-wendelstein.de/index.php/termine
 2/eventdetail/518/-/der-online-stammtisch-im-maerz?tmpl=component">Dieser E
 vent wurde importiert von: https://www.zeidler-wendelstein.de/index.php/ter
 mine2/eventdetail/518/-/der-online-stammtisch-im-maerz?tmpl=component</a>CONTACT:Roland und Daniel
DTSTAMP:20260423T095609
DTSTART;TZID=Europe/Berlin:20210319T190000
SEQUENCE:0
TRANSP:OPAQUE
END:VEVENT
END:VCALENDAR