BEGIN:VCALENDAR
VERSION:2.0
PRODID:-//jEvents 2.0 for Joomla//EN
CALSCALE:GREGORIAN
METHOD:PUBLISH
BEGIN:VTIMEZONE
TZID:Europe/Berlin
BEGIN:STANDARD
DTSTART:20201025T020000
RDATE:20210328T030000
TZOFFSETFROM:+0200
TZOFFSETTO:+0100
TZNAME:Europe/Berlin CET
END:STANDARD
BEGIN:STANDARD
DTSTART:20211031T020000
RDATE:20220327T030000
TZOFFSETFROM:+0200
TZOFFSETTO:+0100
TZNAME:Europe/Berlin CET
END:STANDARD
BEGIN:STANDARD
DTSTART:20221030T020000
RDATE:20230326T030000
TZOFFSETFROM:+0200
TZOFFSETTO:+0100
TZNAME:Europe/Berlin CET
END:STANDARD
BEGIN:STANDARD
DTSTART:20231029T020000
RDATE:20240331T030000
TZOFFSETFROM:+0200
TZOFFSETTO:+0100
TZNAME:Europe/Berlin CET
END:STANDARD
BEGIN:STANDARD
DTSTART:20241027T020000
RDATE:20250330T030000
TZOFFSETFROM:+0200
TZOFFSETTO:+0100
TZNAME:Europe/Berlin CET
END:STANDARD
BEGIN:STANDARD
DTSTART:20251026T020000
RDATE:20260329T030000
TZOFFSETFROM:+0200
TZOFFSETTO:+0100
TZNAME:Europe/Berlin CET
END:STANDARD
BEGIN:STANDARD
DTSTART:20261025T020000
RDATE:20270328T030000
TZOFFSETFROM:+0200
TZOFFSETTO:+0100
TZNAME:Europe/Berlin CET
END:STANDARD
BEGIN:STANDARD
DTSTART:20271031T020000
RDATE:20280326T030000
TZOFFSETFROM:+0200
TZOFFSETTO:+0100
TZNAME:Europe/Berlin CET
END:STANDARD
BEGIN:DAYLIGHT
DTSTART:20200520T190000
RDATE:20201025T020000
TZOFFSETFROM:+0100
TZOFFSETTO:+0200
TZNAME:Europe/Berlin CEST
END:DAYLIGHT
BEGIN:DAYLIGHT
DTSTART:20210328T030000
RDATE:20211031T020000
TZOFFSETFROM:+0100
TZOFFSETTO:+0200
TZNAME:Europe/Berlin CEST
END:DAYLIGHT
BEGIN:DAYLIGHT
DTSTART:20220327T030000
RDATE:20221030T020000
TZOFFSETFROM:+0100
TZOFFSETTO:+0200
TZNAME:Europe/Berlin CEST
END:DAYLIGHT
BEGIN:DAYLIGHT
DTSTART:20230326T030000
RDATE:20231029T020000
TZOFFSETFROM:+0100
TZOFFSETTO:+0200
TZNAME:Europe/Berlin CEST
END:DAYLIGHT
BEGIN:DAYLIGHT
DTSTART:20240331T030000
RDATE:20241027T020000
TZOFFSETFROM:+0100
TZOFFSETTO:+0200
TZNAME:Europe/Berlin CEST
END:DAYLIGHT
BEGIN:DAYLIGHT
DTSTART:20250330T030000
RDATE:20251026T020000
TZOFFSETFROM:+0100
TZOFFSETTO:+0200
TZNAME:Europe/Berlin CEST
END:DAYLIGHT
BEGIN:DAYLIGHT
DTSTART:20260329T030000
RDATE:20261025T020000
TZOFFSETFROM:+0100
TZOFFSETTO:+0200
TZNAME:Europe/Berlin CEST
END:DAYLIGHT
BEGIN:DAYLIGHT
DTSTART:20270328T030000
RDATE:20271031T020000
TZOFFSETFROM:+0100
TZOFFSETTO:+0200
TZNAME:Europe/Berlin CEST
END:DAYLIGHT
END:VTIMEZONE
BEGIN:VEVENT
UID:3b990696deccc4e8efc0b9f37b4df19e
CATEGORIES:Vereinsintern
CREATED:20210422T094048
SUMMARY:Der Onlinestammtisch im Mai
URL;VALUE=URI:https://www.zeidler-wendelstein.de/index.php/termine2/eventdetail/520/-/der
 -onlinestammtisch-im-mai?tmpl=component
DESCRIPTION: Der Onlinestammtisch steht derzeit nur den Gästen mit Zugansglink zur Verf
 ügung. \n\nLiebe*r Bienenfreund*in, \nheute um 19 Uhr treffen wir uns wiede
 r zu unserem virtuellen Stammtisch.\n Was benötigst du zur Teilnahme? \n\n 
 - Einen Bildschirm (PC, Tablet oder dein Handy) mit aktiviertem Mikrofon, K
 amera und Lautsprecher.\n\n - Den Zugangs-Link zur Skypesitzung, der per E-
 Mail an dich ging. Du benötigt kein Skype-Konto. Du kannst auch als Gast te
 ilnehmen.\n\n - Etwa eine Stunde deiner Zeit.\n Thema:  Wir haben kein fest
 es Thema - wie es sich ergibt, werden wir uns austauschen.\n Technikprobe u
 nd Fragen: Wenn du am Online-Stammtisch teilnimmst:\n - Du kannst deine Tec
 hnik etwa 10 Minuten vor dem Start testen, der Raum öffnet bereits etwas vo
 rher. \n\n - Wenn du spezielle Fragen hast, oder auch ein Thema vorschlagen
  möchtest, bitte rechtzeitig vorab per E-Mail an Diese E-Mail-Adresse ist v
 or Spambots geschützt! Zur Anzeige muss JavaScript eingeschaltet sein. mit 
 dem Betreff Online-Stammtisch, damit wir uns ggf. darauf vorbereiten können
 .\n\nWir freuen uns auf dich und stehen dir für Fragen vorab gern zur Verfü
 gung. \n\n Roland und Daniel \n \n Dieser Event wurde importiert von: https
 ://www.zeidler-wendelstein.de/index.php/termine2/eventdetail/520/-/der-onli
 nestammtisch-im-mai?tmpl=component (https://www.zeidler-wendelstein.de/inde
 x.php/termine2/eventdetail/520/-/der-onlinestammtisch-im-mai?tmpl=component
 )
X-ALT-DESC;FMTTYPE=text/html:<h4><span style="background-color: #333333; color: #ffffff;"><em><span styl
 e="background-color: #ffcc00; color: #333333;"> Der Onlinestammtisch steht 
 derzeit nur den Gästen mit Zugansglink zur Verfügung. </span><br /><br /></
 em></span></h4><p><span style="font-family: arial, helvetica, sans-serif; c
 olor: #333333;">Liebe*r Bienenfreund*in, </span></p><p><span style="font-fa
 mily: arial, helvetica, sans-serif; color: #333333;">heute um 19 Uhr treffe
 n wir uns wieder zu unserem virtuellen Stammtisch.</span></p><p><span style
 ="background-color: #333333; color: #ffffff;"><em> </em>Was benötigst du zu
 r Teilnahme?<em> </em></span></p><ul><li><p>Einen Bildschirm (PC, Tablet od
 er dein Handy) mit aktiviertem Mikrofon, Kamera und Lautsprecher.</p></li><
 li><p>Den <strong>Zugangs-Link</strong> zur Skypesitzung, der per E-Mail an
  dich ging. Du benötigt <strong>kein Skype-Konto</strong>. Du kannst auch a
 ls <em>Gast </em>teilnehmen.</p></li><li><p>Etwa eine Stunde deiner Zeit.</
 p></li></ul><h4><span style="background-color: #333333; color: #ffffff;"> T
 hema:  </span></h4><p>Wir haben kein festes Thema - wie es sich ergibt, wer
 den wir uns austauschen.</p><h4><span style="background-color: #333333; col
 or: #ffffff;"> Technikprobe und Fragen: </span></h4><h4>Wenn du am Online-S
 tammtisch teilnimmst:</h4><ol><li><p>Du kannst deine Technik etwa 10 Minute
 n vor dem Start testen, der Raum öffnet bereits etwas vorher. </p></li><li>
 <p>Wenn du <strong>spezielle Fragen</strong> hast, oder auch ein Thema vors
 chlagen möchtest, bitte rechtzeitig vorab per E-Mail an <joomla-hidden-mail
   is-link="1" is-email="1" first="aW5mbw==" last="emVpZGxlci13ZW5kZWxzdGVpb
 i5kZQ==" text="aW5mb0B6ZWlkbGVyLXdlbmRlbHN0ZWluLmRl" base="" >Diese E-Mail-
 Adresse ist vor Spambots geschützt! Zur Anzeige muss JavaScript eingeschalt
 et sein.</joomla-hidden-mail> mit dem <strong>Betreff Online-Stammtisch</st
 rong>, damit wir uns ggf. darauf vorbereiten können.</p></li></ol><p><br />
 Wir freuen uns auf dich und stehen dir für Fragen vorab gern zur Verfügung.
  <br /><br /><span style="background-color: #ffcc00;"> Roland und Daniel </
 span></p><p> </p> <a href="https://www.zeidler-wendelstein.de/index.php/ter
 mine2/eventdetail/520/-/der-onlinestammtisch-im-mai?tmpl=component">Dieser 
 Event wurde importiert von: https://www.zeidler-wendelstein.de/index.php/te
 rmine2/eventdetail/520/-/der-onlinestammtisch-im-mai?tmpl=component</a>DTSTAMP:20260423T100027
DTSTART;TZID=Europe/Berlin:20210521T190000
SEQUENCE:0
TRANSP:OPAQUE
END:VEVENT
END:VCALENDAR