BEGIN:VCALENDAR
VERSION:2.0
PRODID:-//jEvents 2.0 for Joomla//EN
CALSCALE:GREGORIAN
METHOD:PUBLISH
BEGIN:VTIMEZONE
TZID:Europe/Berlin
BEGIN:STANDARD
DTSTART:20241027T020000
RDATE:20250330T030000
TZOFFSETFROM:+0200
TZOFFSETTO:+0100
TZNAME:Europe/Berlin CET
END:STANDARD
BEGIN:STANDARD
DTSTART:20251026T020000
RDATE:20260329T030000
TZOFFSETFROM:+0200
TZOFFSETTO:+0100
TZNAME:Europe/Berlin CET
END:STANDARD
BEGIN:STANDARD
DTSTART:20261025T020000
RDATE:20270328T030000
TZOFFSETFROM:+0200
TZOFFSETTO:+0100
TZNAME:Europe/Berlin CET
END:STANDARD
BEGIN:STANDARD
DTSTART:20271031T020000
RDATE:20280326T030000
TZOFFSETFROM:+0200
TZOFFSETTO:+0100
TZNAME:Europe/Berlin CET
END:STANDARD
BEGIN:DAYLIGHT
DTSTART:20240911T160000
RDATE:20241027T020000
TZOFFSETFROM:+0100
TZOFFSETTO:+0200
TZNAME:Europe/Berlin CEST
END:DAYLIGHT
BEGIN:DAYLIGHT
DTSTART:20250330T030000
RDATE:20251026T020000
TZOFFSETFROM:+0100
TZOFFSETTO:+0200
TZNAME:Europe/Berlin CEST
END:DAYLIGHT
BEGIN:DAYLIGHT
DTSTART:20260329T030000
RDATE:20261025T020000
TZOFFSETFROM:+0100
TZOFFSETTO:+0200
TZNAME:Europe/Berlin CEST
END:DAYLIGHT
BEGIN:DAYLIGHT
DTSTART:20270328T030000
RDATE:20271031T020000
TZOFFSETFROM:+0100
TZOFFSETTO:+0200
TZNAME:Europe/Berlin CEST
END:DAYLIGHT
END:VTIMEZONE
BEGIN:VEVENT
UID:7e441bf05301a469c7afd1a318e029b2
CATEGORIES:Anfängerkurs
CREATED:20250430T094020
SUMMARY:Theorie 6: Einwinterungsarbeiten und Varroa-Winterbehandlung 
LOCATION:Lehbienenstand Königshammer
URL;VALUE=URI:https://www.zeidler-wendelstein.de/index.php/termine2/eventdetail/785/-/the
 orie-6-einwinterungsarbeiten-und-varroa-winterbehandlung?tmpl=component
DESCRIPTION: Dieser Event wurde importiert von: https://www.zeidler-wendelstein.de/inde
 x.php/termine2/eventdetail/785/-/theorie-6-einwinterungsarbeiten-und-varroa
 -winterbehandlung?tmpl=component (https://www.zeidler-wendelstein.de/index.
 php/termine2/eventdetail/785/-/theorie-6-einwinterungsarbeiten-und-varroa-w
 interbehandlung?tmpl=component)
X-ALT-DESC;FMTTYPE=text/html: <a href="https://www.zeidler-wendelstein.de/index.php/termine2/eventdetail
 /785/-/theorie-6-einwinterungsarbeiten-und-varroa-winterbehandlung?tmpl=com
 ponent">Dieser Event wurde importiert von: https://www.zeidler-wendelstein.
 de/index.php/termine2/eventdetail/785/-/theorie-6-einwinterungsarbeiten-und
 -varroa-winterbehandlung?tmpl=component</a>CONTACT:Thomas Pfaffinger
DTSTAMP:20260420T013337
DTSTART;TZID=Europe/Berlin:20250912T160000
DTEND;TZID=Europe/Berlin:20250912T170000
SEQUENCE:0
TRANSP:OPAQUE
END:VEVENT
END:VCALENDAR