BEGIN:VCALENDAR
VERSION:2.0
PRODID:-//jEvents 2.0 for Joomla//EN
CALSCALE:GREGORIAN
METHOD:PUBLISH
BEGIN:VTIMEZONE
TZID:Europe/Berlin
BEGIN:STANDARD
DTSTART:20230118T190000
RDATE:20230326T030000
TZOFFSETFROM:+0200
TZOFFSETTO:+0100
TZNAME:Europe/Berlin CET
END:STANDARD
BEGIN:STANDARD
DTSTART:20231029T020000
RDATE:20240331T030000
TZOFFSETFROM:+0200
TZOFFSETTO:+0100
TZNAME:Europe/Berlin CET
END:STANDARD
BEGIN:STANDARD
DTSTART:20241027T020000
RDATE:20250330T030000
TZOFFSETFROM:+0200
TZOFFSETTO:+0100
TZNAME:Europe/Berlin CET
END:STANDARD
BEGIN:STANDARD
DTSTART:20251026T020000
RDATE:20260329T030000
TZOFFSETFROM:+0200
TZOFFSETTO:+0100
TZNAME:Europe/Berlin CET
END:STANDARD
BEGIN:STANDARD
DTSTART:20261025T020000
RDATE:20270328T030000
TZOFFSETFROM:+0200
TZOFFSETTO:+0100
TZNAME:Europe/Berlin CET
END:STANDARD
BEGIN:STANDARD
DTSTART:20271031T020000
RDATE:20280326T030000
TZOFFSETFROM:+0200
TZOFFSETTO:+0100
TZNAME:Europe/Berlin CET
END:STANDARD
BEGIN:DAYLIGHT
DTSTART:20230326T030000
RDATE:20231029T020000
TZOFFSETFROM:+0100
TZOFFSETTO:+0200
TZNAME:Europe/Berlin CEST
END:DAYLIGHT
BEGIN:DAYLIGHT
DTSTART:20240331T030000
RDATE:20241027T020000
TZOFFSETFROM:+0100
TZOFFSETTO:+0200
TZNAME:Europe/Berlin CEST
END:DAYLIGHT
BEGIN:DAYLIGHT
DTSTART:20250330T030000
RDATE:20251026T020000
TZOFFSETFROM:+0100
TZOFFSETTO:+0200
TZNAME:Europe/Berlin CEST
END:DAYLIGHT
BEGIN:DAYLIGHT
DTSTART:20260329T030000
RDATE:20261025T020000
TZOFFSETFROM:+0100
TZOFFSETTO:+0200
TZNAME:Europe/Berlin CEST
END:DAYLIGHT
BEGIN:DAYLIGHT
DTSTART:20270328T030000
RDATE:20271031T020000
TZOFFSETFROM:+0100
TZOFFSETTO:+0200
TZNAME:Europe/Berlin CEST
END:DAYLIGHT
END:VTIMEZONE
BEGIN:VEVENT
UID:a79257eaa3793f570b62aa95c238abc6
CATEGORIES:Öffentlich
CREATED:20230922T061514
SUMMARY:Stammtisch des Zeidlerverein
URL;VALUE=URI:https://www.zeidler-wendelstein.de/index.php/termine2/eventdetail/701/-/sta
 mmtisch-des-zeidlerverein?tmpl=component
DESCRIPTION:Ort:\nDer Stammtisch findet am Lehrbienenstand statt.\n\nZeidlerverein Wend
 elstein 1912 e.V.\nKönigshammer 3\n90530 Wendelstein\nWir freuen uns auf di
 ch und stehen dir für Fragen vorab gern zur Verfügung. \n\nRoland Sorgenfre
 i                1. Vorsitzender unter +49 9129 2965957\nChristina Kist    
                    2. Vorsitzende\nKontakt Diese E-Mail-Adresse ist vor Spa
 mbots geschützt! Zur Anzeige muss JavaScript eingeschaltet sein.\n Dieser E
 vent wurde importiert von: https://www.zeidler-wendelstein.de/index.php/ter
 mine2/eventdetail/701/-/stammtisch-des-zeidlerverein?tmpl=component
X-ALT-DESC;FMTTYPE=text/html:<p><strong>Ort:</strong></p><div class="jev_evdt_desc"><p><strong>Der Stamm
 tisch findet am Lehrbienenstand statt.</strong></p><p><strong><br /></stron
 g>Zeidlerverein Wendelstein 1912 e.V.<br />Königshammer 3<br />90530 Wendel
 stein</p><p>Wir freuen uns auf dich und stehen dir für Fragen vorab gern zu
 r Verfügung. <br /><br />Roland Sorgenfrei                1. Vorsitzender u
 nter +49 9129 2965957<br />Christina Kist                       2. Vorsitze
 nde</p><p><span class="contact">Kontakt </span><span id="cloak3705dc7fde5ad
 d3d19d2a9ad7cfe424b"><joomla-hidden-mail  is-link="1" is-email="1" first="a
 W5mbw==" last="emVpZGxlci13ZW5kZWxzdGVpbi5kZQ==" text="aW5mb0B6ZWlkbGVyLXdl
 bmRlbHN0ZWluLmRl" base="" >Diese E-Mail-Adresse ist vor Spambots geschützt!
  Zur Anzeige muss JavaScript eingeschaltet sein.</joomla-hidden-mail></span
 ></p></div> <a href="https://www.zeidler-wendelstein.de/index.php/termine2/
 eventdetail/701/-/stammtisch-des-zeidlerverein?tmpl=component">Dieser Event
  wurde importiert von: https://www.zeidler-wendelstein.de/index.php/termine
 2/eventdetail/701/-/stammtisch-des-zeidlerverein?tmpl=component</a>DTSTAMP:20260420T033926
DTSTART;TZID=Europe/Berlin:20240119T190000
SEQUENCE:0
TRANSP:OPAQUE
END:VEVENT
END:VCALENDAR